Package: tidySpatialExperiment Version: 1.5.1 Command: /Library/Frameworks/R.framework/Resources/bin/R CMD check --install=check:tidySpatialExperiment.install-out.txt --library=/Library/Frameworks/R.framework/Resources/library --no-vignettes --timings tidySpatialExperiment_1.5.1.tar.gz StartedAt: 2025-10-24 22:30:36 -0400 (Fri, 24 Oct 2025) EndedAt: 2025-10-24 22:32:13 -0400 (Fri, 24 Oct 2025) EllapsedTime: 97.2 seconds RetCode: 0 Status: OK CheckDir: tidySpatialExperiment.Rcheck Warnings: 0