Package: tidySpatialExperiment Version: 1.5.1 Maintainer: William Hutchison MaintainerEmail: hutchison.w at wehi.edu.au git_url: https://git.bioconductor.org/packages/tidySpatialExperiment git_branch: devel git_last_commit: 8909c54 git_last_commit_date: 2025-10-21 22:11:35 -0400 (Tue, 21 Oct 2025)