Package: tidySingleCellExperiment Version: 1.19.1 Command: /home/biocbuild/R/R/bin/R CMD INSTALL tidySingleCellExperiment StartedAt: 2025-10-23 20:40:11 -0000 (Thu, 23 Oct 2025) EndedAt: 2025-10-23 20:40:48 -0000 (Thu, 23 Oct 2025) EllapsedTime: 37.4 seconds RetCode: 0 Status: OK