Package: tidySingleCellExperiment Version: 1.19.1 Command: /home/biocbuild/bbs-3.22-bioc/R/bin/R CMD INSTALL tidySingleCellExperiment StartedAt: 2025-10-24 15:30:14 -0400 (Fri, 24 Oct 2025) EndedAt: 2025-10-24 15:30:42 -0400 (Fri, 24 Oct 2025) EllapsedTime: 28.5 seconds RetCode: 0 Status: OK