Package: tidySingleCellExperiment Version: 1.19.1 Command: /home/biocbuild/bbs-3.22-bioc/R/bin/R CMD check --install=check:tidySingleCellExperiment.install-out.txt --library=/home/biocbuild/bbs-3.22-bioc/R/site-library --timings tidySingleCellExperiment_1.19.1.tar.gz StartedAt: 2025-10-25 04:57:01 -0400 (Sat, 25 Oct 2025) EndedAt: 2025-10-25 05:01:52 -0400 (Sat, 25 Oct 2025) EllapsedTime: 291.3 seconds RetCode: 0 Status: OK CheckDir: tidySingleCellExperiment.Rcheck Warnings: 0