Package: tidySingleCellExperiment Version: 1.19.1 Command: /home/biocbuild/bbs-3.22-bioc/R/bin/R CMD build --keep-empty-dirs --no-resave-data --md5 tidySingleCellExperiment StartedAt: 2025-10-24 20:39:12 -0400 (Fri, 24 Oct 2025) EndedAt: 2025-10-24 20:40:37 -0400 (Fri, 24 Oct 2025) EllapsedTime: 85.1 seconds RetCode: 0 Status: OK PackageFile: tidySingleCellExperiment_1.19.1.tar.gz PackageFileSize: 1.769 MiB