Package: tidySingleCellExperiment Version: 1.20.0 Command: /Library/Frameworks/R.framework/Resources/bin/R CMD check --install=check:tidySingleCellExperiment.install-out.txt --library=/Library/Frameworks/R.framework/Resources/library --no-vignettes --timings tidySingleCellExperiment_1.20.0.tar.gz StartedAt: 2025-11-02 22:32:21 -0500 (Sun, 02 Nov 2025) EndedAt: 2025-11-02 22:33:51 -0500 (Sun, 02 Nov 2025) EllapsedTime: 90.0 seconds RetCode: 0 Status: OK CheckDir: tidySingleCellExperiment.Rcheck Warnings: 0