Package: tidySingleCellExperiment Version: 1.19.1 Maintainer: Stefano Mangiola MaintainerEmail: mangiolastefano at gmail.com git_url: https://git.bioconductor.org/packages/tidySingleCellExperiment git_branch: devel git_last_commit: 3e62047 git_last_commit_date: 2025-10-14 15:04:24 -0400 (Tue, 14 Oct 2025)