Package: tidyFlowCore Version: 1.3.0 Command: /home/biocbuild/R/R/bin/R CMD INSTALL tidyFlowCore StartedAt: 2025-10-23 20:32:47 -0000 (Thu, 23 Oct 2025) EndedAt: 2025-10-23 20:32:59 -0000 (Thu, 23 Oct 2025) EllapsedTime: 12.1 seconds RetCode: 0 Status: OK