Package: tidyFlowCore Version: 1.3.0 Command: /Library/Frameworks/R.framework/Resources/bin/R CMD build --keep-empty-dirs --no-resave-data tidyFlowCore StartedAt: 2025-10-28 19:01:51 -0400 (Tue, 28 Oct 2025) EndedAt: 2025-10-28 19:02:56 -0400 (Tue, 28 Oct 2025) EllapsedTime: 64.8 seconds RetCode: 0 Status: OK PackageFile: tidyFlowCore_1.3.0.tar.gz PackageFileSize: 776.1 KiB