Package: tidyCoverage Version: 1.5.0 Command: /home/biocbuild/bbs-3.22-bioc/R/bin/R CMD check --install=check:tidyCoverage.install-out.txt --library=/home/biocbuild/bbs-3.22-bioc/R/site-library --timings tidyCoverage_1.5.0.tar.gz StartedAt: 2025-10-25 04:55:53 -0400 (Sat, 25 Oct 2025) EndedAt: 2025-10-25 05:03:48 -0400 (Sat, 25 Oct 2025) EllapsedTime: 474.5 seconds RetCode: 0 Status: OK CheckDir: tidyCoverage.Rcheck Warnings: 0