Package: tidyCoverage Version: 1.5.0 Command: /home/biocbuild/bbs-3.22-bioc/R/bin/R CMD build --keep-empty-dirs --no-resave-data --md5 tidyCoverage StartedAt: 2025-10-24 20:38:41 -0400 (Fri, 24 Oct 2025) EndedAt: 2025-10-24 20:41:40 -0400 (Fri, 24 Oct 2025) EllapsedTime: 179.3 seconds RetCode: 0 Status: OK PackageFile: tidyCoverage_1.5.0.tar.gz PackageFileSize: 3.735 MiB