Package: tidyCoverage Version: 1.5.0 Command: /Library/Frameworks/R.framework/Resources/bin/R CMD INSTALL tidyCoverage StartedAt: 2025-10-24 15:34:45 -0400 (Fri, 24 Oct 2025) EndedAt: 2025-10-24 15:35:33 -0400 (Fri, 24 Oct 2025) EllapsedTime: 47.6 seconds RetCode: 0 Status: OK