Package: tidyCoverage Version: 1.5.0 Command: /Library/Frameworks/R.framework/Resources/bin/R CMD check --install=check:tidyCoverage.install-out.txt --library=/Library/Frameworks/R.framework/Resources/library --no-vignettes --timings tidyCoverage_1.5.0.tar.gz StartedAt: 2025-10-25 00:49:12 -0400 (Sat, 25 Oct 2025) EndedAt: 2025-10-25 00:55:03 -0400 (Sat, 25 Oct 2025) EllapsedTime: 351.3 seconds RetCode: 0 Status: OK CheckDir: tidyCoverage.Rcheck Warnings: 0