Package: tidyCoverage Version: 1.5.0 Command: rm -rf tidyCoverage.buildbin-libdir && mkdir tidyCoverage.buildbin-libdir && /Users/biocbuild/BBS/utils/build-universal.sh tidyCoverage_1.5.0.tar.gz /Library/Frameworks/R.framework/Resources/bin/R tidyCoverage.buildbin-libdir StartedAt: 2025-10-25 02:08:31 -0400 (Sat, 25 Oct 2025) EndedAt: 2025-10-25 02:09:23 -0400 (Sat, 25 Oct 2025) EllapsedTime: 52.1 seconds RetCode: 0 Status: OK PackageFile: tidyCoverage_1.5.0.tgz PackageFileSize: 4.218 MiB