Package: ternarynet Version: 1.53.0 Command: /home/biocbuild/bbs-3.22-bioc/R/bin/R CMD INSTALL ternarynet StartedAt: 2025-10-27 15:07:34 -0400 (Mon, 27 Oct 2025) EndedAt: 2025-10-27 15:07:43 -0400 (Mon, 27 Oct 2025) EllapsedTime: 8.9 seconds RetCode: 0 Status: OK