Package: ternarynet Version: 1.53.0 Command: /home/biocbuild/bbs-3.22-bioc/R/bin/R CMD build --keep-empty-dirs --no-resave-data --md5 ternarynet StartedAt: 2025-10-27 20:29:58 -0400 (Mon, 27 Oct 2025) EndedAt: 2025-10-27 20:30:09 -0400 (Mon, 27 Oct 2025) EllapsedTime: 11.0 seconds RetCode: 0 Status: OK PackageFile: ternarynet_1.53.0.tar.gz PackageFileSize: 271.4 KiB