Package: ternarynet Version: 1.53.0 Command: /Library/Frameworks/R.framework/Resources/bin/R CMD build --keep-empty-dirs --no-resave-data ternarynet StartedAt: 2025-10-27 17:57:10 -0400 (Mon, 27 Oct 2025) EndedAt: 2025-10-27 17:57:16 -0400 (Mon, 27 Oct 2025) EllapsedTime: 6.1 seconds RetCode: 0 Status: OK PackageFile: ternarynet_1.53.0.tar.gz PackageFileSize: 268.4 KiB