Package: ternarynet Version: 1.53.0 Command: rm -rf ternarynet.buildbin-libdir && mkdir ternarynet.buildbin-libdir && /Users/biocbuild/BBS/utils/build-universal.sh ternarynet_1.53.0.tar.gz /Library/Frameworks/R.framework/Resources/bin/R ternarynet.buildbin-libdir StartedAt: 2025-10-26 22:50:08 -0400 (Sun, 26 Oct 2025) EndedAt: 2025-10-26 22:50:12 -0400 (Sun, 26 Oct 2025) EllapsedTime: 4.3 seconds RetCode: 0 Status: OK PackageFile: ternarynet_1.53.0.tgz PackageFileSize: 566 KiB