Package: terapadog Version: 1.2.0 Command: /home/biocbuild/bbs-3.22-bioc/R/bin/R CMD INSTALL terapadog StartedAt: 2025-11-03 15:27:04 -0500 (Mon, 03 Nov 2025) EndedAt: 2025-11-03 15:27:35 -0500 (Mon, 03 Nov 2025) EllapsedTime: 30.6 seconds RetCode: 0 Status: OK