Package: tanggle Version: 1.15.3 Command: /home/biocbuild/bbs-3.22-bioc/R/bin/R CMD INSTALL tanggle StartedAt: 2025-10-24 15:21:10 -0400 (Fri, 24 Oct 2025) EndedAt: 2025-10-24 15:21:26 -0400 (Fri, 24 Oct 2025) EllapsedTime: 15.3 seconds RetCode: 0 Status: OK