Package: tanggle Version: 1.15.3 Command: /home/biocbuild/bbs-3.22-bioc/R/bin/R CMD build --keep-empty-dirs --no-resave-data --md5 tanggle StartedAt: 2025-10-24 20:35:10 -0400 (Fri, 24 Oct 2025) EndedAt: 2025-10-24 20:35:33 -0400 (Fri, 24 Oct 2025) EllapsedTime: 23.0 seconds RetCode: 0 Status: OK PackageFile: tanggle_1.15.3.tar.gz PackageFileSize: 2.07 MiB