Package: tanggle Version: 1.15.3 Command: /Library/Frameworks/R.framework/Resources/bin/R CMD INSTALL tanggle StartedAt: 2025-10-24 15:08:38 -0400 (Fri, 24 Oct 2025) EndedAt: 2025-10-24 15:08:41 -0400 (Fri, 24 Oct 2025) EllapsedTime: 2.8 seconds RetCode: 0 Status: OK