Package: tanggle Version: 1.15.3 Command: /Library/Frameworks/R.framework/Resources/bin/R CMD build --keep-empty-dirs --no-resave-data tanggle StartedAt: 2025-10-24 17:57:07 -0400 (Fri, 24 Oct 2025) EndedAt: 2025-10-24 17:57:17 -0400 (Fri, 24 Oct 2025) EllapsedTime: 10.1 seconds RetCode: 0 Status: OK PackageFile: tanggle_1.15.3.tar.gz PackageFileSize: 1.947 MiB