Package: tanggle Version: 1.15.3 Command: rm -rf tanggle.buildbin-libdir && mkdir tanggle.buildbin-libdir && /Users/biocbuild/BBS/utils/build-universal.sh tanggle_1.15.3.tar.gz /Library/Frameworks/R.framework/Resources/bin/R tanggle.buildbin-libdir StartedAt: 2025-10-24 23:22:10 -0400 (Fri, 24 Oct 2025) EndedAt: 2025-10-24 23:22:14 -0400 (Fri, 24 Oct 2025) EllapsedTime: 4.1 seconds RetCode: 0 Status: OK PackageFile: tanggle_1.15.3.tgz PackageFileSize: 1.967 MiB