Package: tadar Version: 1.8.0 Command: /home/biocbuild/bbs-3.22-bioc/R/bin/R CMD INSTALL tadar StartedAt: 2025-11-20 16:41:13 -0500 (Thu, 20 Nov 2025) EndedAt: 2025-11-20 16:42:04 -0500 (Thu, 20 Nov 2025) EllapsedTime: 50.2 seconds RetCode: 0 Status: OK