Package: tadar Version: 1.8.0 Command: /home/biocbuild/bbs-3.22-bioc/R/bin/R CMD build --keep-empty-dirs --no-resave-data --md5 tadar StartedAt: 2025-11-20 21:17:50 -0500 (Thu, 20 Nov 2025) EndedAt: 2025-11-20 21:19:18 -0500 (Thu, 20 Nov 2025) EllapsedTime: 88.1 seconds RetCode: 0 Status: OK PackageFile: tadar_1.8.0.tar.gz PackageFileSize: 1.688 MiB