Package: tRNAscanImport Version: 1.30.0 Command: /Library/Frameworks/R.framework/Resources/bin/R CMD INSTALL tRNAscanImport StartedAt: 2025-10-31 15:42:24 -0400 (Fri, 31 Oct 2025) EndedAt: 2025-10-31 15:43:13 -0400 (Fri, 31 Oct 2025) EllapsedTime: 49.4 seconds RetCode: 0 Status: OK