Package: tRNAscanImport Version: 1.30.0 Command: /Library/Frameworks/R.framework/Resources/bin/R CMD build --keep-empty-dirs --no-resave-data tRNAscanImport StartedAt: 2025-11-02 19:11:28 -0500 (Sun, 02 Nov 2025) EndedAt: 2025-11-02 19:13:16 -0500 (Sun, 02 Nov 2025) EllapsedTime: 108.3 seconds RetCode: 0 Status: OK PackageFile: tRNAscanImport_1.30.0.tar.gz PackageFileSize: 882.6 KiB