Package: tRNAscanImport Version: 1.29.1 Command: /Library/Frameworks/R.framework/Resources/bin/R CMD INSTALL tRNAscanImport StartedAt: 2025-10-24 15:22:48 -0400 (Fri, 24 Oct 2025) EndedAt: 2025-10-24 15:23:03 -0400 (Fri, 24 Oct 2025) EllapsedTime: 15.0 seconds RetCode: 0 Status: OK