Package: tRNAscanImport Version: 1.29.1 Command: /Library/Frameworks/R.framework/Resources/bin/R CMD build --keep-empty-dirs --no-resave-data tRNAscanImport StartedAt: 2025-10-24 18:02:53 -0400 (Fri, 24 Oct 2025) EndedAt: 2025-10-24 18:03:30 -0400 (Fri, 24 Oct 2025) EllapsedTime: 37.4 seconds RetCode: 0 Status: OK PackageFile: tRNAscanImport_1.29.1.tar.gz PackageFileSize: 880.1 KiB