Package: tRNAscanImport Version: 1.29.1 Command: rm -rf tRNAscanImport.buildbin-libdir && mkdir tRNAscanImport.buildbin-libdir && /Users/biocbuild/BBS/utils/build-universal.sh tRNAscanImport_1.29.1.tar.gz /Library/Frameworks/R.framework/Resources/bin/R tRNAscanImport.buildbin-libdir StartedAt: 2025-10-24 23:23:22 -0400 (Fri, 24 Oct 2025) EndedAt: 2025-10-24 23:23:38 -0400 (Fri, 24 Oct 2025) EllapsedTime: 16.5 seconds RetCode: 0 Status: OK PackageFile: tRNAscanImport_1.29.1.tgz PackageFileSize: 927.2 KiB