Package: tRNAscanImport Version: 1.30.0 Maintainer: Felix G.M. Ernst MaintainerEmail: felix.gm.ernst at outlook.com git_url: https://git.bioconductor.org/packages/tRNAscanImport git_branch: RELEASE_3_22 git_last_commit: ac13675 git_last_commit_date: 2025-10-29 10:43:40 -0500 (Wed, 29 Oct 2025)