Package: tRNAdbImport Version: 1.28.0 Command: /Library/Frameworks/R.framework/Resources/bin/R CMD INSTALL tRNAdbImport StartedAt: 2025-11-03 15:40:00 -0500 (Mon, 03 Nov 2025) EndedAt: 2025-11-03 15:40:22 -0500 (Mon, 03 Nov 2025) EllapsedTime: 21.7 seconds RetCode: 0 Status: OK