Package: tRNAdbImport Version: 1.28.0 Command: /Library/Frameworks/R.framework/Resources/bin/R CMD build --keep-empty-dirs --no-resave-data tRNAdbImport StartedAt: 2025-11-03 19:09:25 -0500 (Mon, 03 Nov 2025) EndedAt: 2025-11-03 19:10:06 -0500 (Mon, 03 Nov 2025) EllapsedTime: 41.1 seconds RetCode: 0 Status: OK PackageFile: tRNAdbImport_1.28.0.tar.gz PackageFileSize: 321.7 KiB