Package: tRNAdbImport Version: 1.27.0 Command: /Library/Frameworks/R.framework/Resources/bin/R CMD INSTALL tRNAdbImport StartedAt: 2025-10-24 15:22:48 -0400 (Fri, 24 Oct 2025) EndedAt: 2025-10-24 15:22:55 -0400 (Fri, 24 Oct 2025) EllapsedTime: 6.3 seconds RetCode: 0 Status: OK