Package: tRNAdbImport Version: 1.27.0 Command: rm -rf tRNAdbImport.buildbin-libdir && mkdir tRNAdbImport.buildbin-libdir && /Users/biocbuild/BBS/utils/build-universal.sh tRNAdbImport_1.27.0.tar.gz /Library/Frameworks/R.framework/Resources/bin/R tRNAdbImport.buildbin-libdir StartedAt: 2025-10-24 23:23:22 -0400 (Fri, 24 Oct 2025) EndedAt: 2025-10-24 23:23:29 -0400 (Fri, 24 Oct 2025) EllapsedTime: 7.3 seconds RetCode: 0 Status: OK PackageFile: tRNAdbImport_1.27.0.tgz PackageFileSize: 379.9 KiB