Package: tRNA Version: 1.27.1 Command: /home/biocbuild/bbs-3.22-bioc/R/bin/R CMD INSTALL tRNA StartedAt: 2025-10-24 15:49:14 -0400 (Fri, 24 Oct 2025) EndedAt: 2025-10-24 15:49:30 -0400 (Fri, 24 Oct 2025) EllapsedTime: 15.9 seconds RetCode: 0 Status: OK