Package: tRNA Version: 1.27.1 Command: /home/biocbuild/bbs-3.22-bioc/R/bin/R CMD build --keep-empty-dirs --no-resave-data --md5 tRNA StartedAt: 2025-10-24 20:44:26 -0400 (Fri, 24 Oct 2025) EndedAt: 2025-10-24 20:46:58 -0400 (Fri, 24 Oct 2025) EllapsedTime: 151.1 seconds RetCode: 0 Status: OK PackageFile: tRNA_1.27.1.tar.gz PackageFileSize: 1.239 MiB