Package: tLOH Version: 1.18.0 Command: /home/biocbuild/bbs-3.22-bioc/R/bin/R CMD INSTALL tLOH StartedAt: 2025-11-16 15:43:44 -0500 (Sun, 16 Nov 2025) EndedAt: 2025-11-16 15:44:35 -0500 (Sun, 16 Nov 2025) EllapsedTime: 51.4 seconds RetCode: 0 Status: OK