Package: systemPipeTools Version: 1.17.0 Command: /home/biocbuild/R/R/bin/R CMD INSTALL systemPipeTools StartedAt: 2025-10-23 20:39:51 -0000 (Thu, 23 Oct 2025) EndedAt: 2025-10-23 20:40:24 -0000 (Thu, 23 Oct 2025) EllapsedTime: 33.5 seconds RetCode: 0 Status: OK