Package: systemPipeTools Version: 1.17.0 Command: /home/biocbuild/R/R/bin/R CMD build --keep-empty-dirs --no-resave-data systemPipeTools StartedAt: 2025-10-21 03:38:11 -0000 (Tue, 21 Oct 2025) EndedAt: 2025-10-21 03:39:39 -0000 (Tue, 21 Oct 2025) EllapsedTime: 88.0 seconds RetCode: 0 Status: OK PackageFile: systemPipeTools_1.17.0.tar.gz PackageFileSize: 719.5 KiB