Package: systemPipeTools Version: 1.17.0 Command: /home/biocbuild/bbs-3.22-bioc/R/bin/R CMD check --install=check:systemPipeTools.install-out.txt --library=/home/biocbuild/bbs-3.22-bioc/R/site-library --timings systemPipeTools_1.17.0.tar.gz StartedAt: 2025-10-25 04:50:33 -0400 (Sat, 25 Oct 2025) EndedAt: 2025-10-25 04:55:25 -0400 (Sat, 25 Oct 2025) EllapsedTime: 292.4 seconds RetCode: 0 Status: WARNINGS CheckDir: systemPipeTools.Rcheck Warnings: 1