Package: systemPipeTools Version: 1.17.0 Command: /home/biocbuild/bbs-3.22-bioc/R/bin/R CMD build --keep-empty-dirs --no-resave-data --md5 systemPipeTools StartedAt: 2025-10-24 20:34:48 -0400 (Fri, 24 Oct 2025) EndedAt: 2025-10-24 20:35:49 -0400 (Fri, 24 Oct 2025) EllapsedTime: 61.1 seconds RetCode: 0 Status: OK PackageFile: systemPipeTools_1.17.0.tar.gz PackageFileSize: 996 KiB