Package: systemPipeTools Version: 1.17.0 Command: /Library/Frameworks/R.framework/Resources/bin/R CMD INSTALL systemPipeTools StartedAt: 2025-10-24 15:16:05 -0400 (Fri, 24 Oct 2025) EndedAt: 2025-10-24 15:16:16 -0400 (Fri, 24 Oct 2025) EllapsedTime: 11.0 seconds RetCode: 0 Status: OK