Package: systemPipeShiny Version: 1.20.0 Command: /home/biocbuild/R/R/bin/R CMD build --keep-empty-dirs --no-resave-data systemPipeShiny StartedAt: 2025-11-14 05:53:41 -0000 (Fri, 14 Nov 2025) EndedAt: 2025-11-14 05:54:14 -0000 (Fri, 14 Nov 2025) EllapsedTime: 33.0 seconds RetCode: 0 Status: OK PackageFile: systemPipeShiny_1.20.0.tar.gz PackageFileSize: 4.371 MiB