Package: systemPipeShiny Version: 1.19.1 Command: /home/biocbuild/bbs-3.22-bioc/R/bin/R CMD INSTALL systemPipeShiny StartedAt: 2025-10-24 15:19:53 -0400 (Fri, 24 Oct 2025) EndedAt: 2025-10-24 15:20:10 -0400 (Fri, 24 Oct 2025) EllapsedTime: 17.1 seconds RetCode: 0 Status: OK