Package: systemPipeShiny Version: 1.19.1 Command: /home/biocbuild/bbs-3.22-bioc/R/bin/R CMD check --install=check:systemPipeShiny.install-out.txt --library=/home/biocbuild/bbs-3.22-bioc/R/site-library --timings systemPipeShiny_1.19.1.tar.gz StartedAt: 2025-10-25 04:50:06 -0400 (Sat, 25 Oct 2025) EndedAt: 2025-10-25 04:51:54 -0400 (Sat, 25 Oct 2025) EllapsedTime: 108.2 seconds RetCode: 0 Status: OK CheckDir: systemPipeShiny.Rcheck Warnings: 0