Package: systemPipeShiny Version: 1.19.1 Command: /Library/Frameworks/R.framework/Resources/bin/R CMD INSTALL systemPipeShiny StartedAt: 2025-10-24 15:19:10 -0400 (Fri, 24 Oct 2025) EndedAt: 2025-10-24 15:19:33 -0400 (Fri, 24 Oct 2025) EllapsedTime: 22.9 seconds RetCode: 0 Status: OK