Package: systemPipeShiny Version: 1.19.1 Command: /Library/Frameworks/R.framework/Resources/bin/R CMD build --keep-empty-dirs --no-resave-data systemPipeShiny StartedAt: 2025-10-24 19:01:38 -0400 (Fri, 24 Oct 2025) EndedAt: 2025-10-24 19:02:08 -0400 (Fri, 24 Oct 2025) EllapsedTime: 30.8 seconds RetCode: 0 Status: OK PackageFile: systemPipeShiny_1.19.1.tar.gz PackageFileSize: 4.308 MiB